BEGIN:VCALENDAR
VERSION:2.0
PRODID:spatie/icalendar-generator
DESCRIPTION:Évènements de École primaire privée Saint Joseph\, Grandcha
 mp-des-Fontaines
X-WR-CALDESC:Évènements de École primaire privée Saint Joseph\, Grandch
 amp-des-Fontaines
REFRESH-INTERVAL;VALUE=DURATION:PT1440M
X-PUBLISHED-TTL:PT1440M
BEGIN:VTIMEZONE
TZID:Europe/Paris
BEGIN:STANDARD
DTSTART:20251026T030000Z
TZOFFSETFROM:+0200
TZOFFSETTO:+0100
END:STANDARD
BEGIN:DAYLIGHT
DTSTART:20260329T020000Z
TZOFFSETFROM:+0100
TZOFFSETTO:+0200
END:DAYLIGHT
BEGIN:STANDARD
DTSTART:20261025T030000Z
TZOFFSETFROM:+0200
TZOFFSETTO:+0100
END:STANDARD
END:VTIMEZONE
BEGIN:VTIMEZONE
TZID:UTC
BEGIN:STANDARD
DTSTART:20250725T230422Z
TZOFFSETFROM:+0000
TZOFFSETTO:+0000
END:STANDARD
END:VTIMEZONE
BEGIN:VEVENT
UID:116-107
DTSTAMP:20260421T230422Z
SUMMARY:Matinée Travaux
LOCATION:
ORGANIZER;CN=ecole-saintjoseph-grandchamp:MAILTO:demybenoit@live.fr
DTSTART;TZID=Europe/Paris:20260627T090000
DTEND;TZID=Europe/Paris:20260627T130000
X-ALT-DESC;FMTTYPE=TEXT/HTML:
CATEGORIES:Matinées Travaux
URL;VALUE=URI:https://ecole-saintjoseph-grandchamp.fr/mc-events/matinee-tra
 vaux-33/
METHOD:PUBLISH
END:VEVENT
END:VCALENDAR