BEGIN:VCALENDAR
VERSION:2.0
PRODID:spatie/icalendar-generator
DESCRIPTION:Évènements de École primaire privée Saint Joseph\, Grandcha
 mp-des-Fontaines
X-WR-CALDESC:Évènements de École primaire privée Saint Joseph\, Grandch
 amp-des-Fontaines
REFRESH-INTERVAL;VALUE=DURATION:PT1440M
X-PUBLISHED-TTL:PT1440M
BEGIN:VTIMEZONE
TZID:Europe/Paris
BEGIN:STANDARD
DTSTART:20241027T030000Z
TZOFFSETFROM:+0200
TZOFFSETTO:+0100
END:STANDARD
BEGIN:DAYLIGHT
DTSTART:20250330T020000Z
TZOFFSETFROM:+0100
TZOFFSETTO:+0200
END:DAYLIGHT
END:VTIMEZONE
BEGIN:VTIMEZONE
TZID:UTC
BEGIN:STANDARD
DTSTART:20250726T033942Z
TZOFFSETFROM:+0000
TZOFFSETTO:+0000
END:STANDARD
END:VTIMEZONE
BEGIN:VEVENT
UID:98-89
DTSTAMP:20260422T033942Z
SUMMARY:Spectacle de la fête du projet
LOCATION:
ORGANIZER;CN=ecole-saintjoseph-grandchamp:MAILTO:demybenoit@live.fr
DTSTART;TZID=Europe/Paris:20250328T180000
DTEND;TZID=Europe/Paris:20250328T200000
X-ALT-DESC;FMTTYPE=TEXT/HTML:Chers parents\, Nous vous attendons nombreux c
 e vendredi soir prochain\, pour encourager et applaudir vos enfants dans l
 e cadre de la représentation du projet d’année. L’empathie et le dé
 veloppement des compétences psychosociales étaient le thème de ce proje
 t. Ainsi\, sous la direction de l’intervenante Manon des Bois\, de la Co
 mpagnie « La Fabrique à Impros…
CATEGORIES:General
URL;VALUE=URI:https://ecole-saintjoseph-grandchamp.fr/mc-events/spectacle-d
 e-la-fete-du-projet/
METHOD:PUBLISH
END:VEVENT
END:VCALENDAR