BEGIN:VCALENDAR
VERSION:2.0
PRODID:spatie/icalendar-generator
DESCRIPTION:Évènements de École primaire privée Saint Joseph\, Grandcha
 mp-des-Fontaines
X-WR-CALDESC:Évènements de École primaire privée Saint Joseph\, Grandch
 amp-des-Fontaines
REFRESH-INTERVAL;VALUE=DURATION:PT1440M
X-PUBLISHED-TTL:PT1440M
BEGIN:VTIMEZONE
TZID:Europe/Paris
BEGIN:DAYLIGHT
DTSTART:20240331T020000Z
TZOFFSETFROM:+0100
TZOFFSETTO:+0200
END:DAYLIGHT
BEGIN:STANDARD
DTSTART:20241027T030000Z
TZOFFSETFROM:+0200
TZOFFSETTO:+0100
END:STANDARD
END:VTIMEZONE
BEGIN:VTIMEZONE
TZID:UTC
BEGIN:STANDARD
DTSTART:20250726T101525Z
TZOFFSETFROM:+0000
TZOFFSETTO:+0000
END:STANDARD
END:VTIMEZONE
BEGIN:VEVENT
UID:70-66
DTSTAMP:20260422T101525Z
SUMMARY:Réunion de classe - CP
LOCATION:
ORGANIZER;CN=ecole-saintjoseph-grandchamp:MAILTO:demybenoit@live.fr
DTSTART;TZID=Europe/Paris;VALUE=DATE:20240924
DTEND;TZID=Europe/Paris;VALUE=DATE:20240925
X-ALT-DESC;FMTTYPE=TEXT/HTML:
CATEGORIES:General
URL;VALUE=URI:https://ecole-saintjoseph-grandchamp.fr/mc-events/reunion-de-
 classe-cp/
METHOD:PUBLISH
END:VEVENT
END:VCALENDAR