BEGIN:VCALENDAR
VERSION:2.0
PRODID:spatie/icalendar-generator
DESCRIPTION:Évènements de École primaire privée Saint Joseph\, Grandcha
 mp-des-Fontaines
X-WR-CALDESC:Évènements de École primaire privée Saint Joseph\, Grandch
 amp-des-Fontaines
REFRESH-INTERVAL;VALUE=DURATION:PT1440M
X-PUBLISHED-TTL:PT1440M
BEGIN:VTIMEZONE
TZID:Europe/Paris
BEGIN:DAYLIGHT
DTSTART:20240331T020000Z
TZOFFSETFROM:+0100
TZOFFSETTO:+0200
END:DAYLIGHT
BEGIN:STANDARD
DTSTART:20241027T030000Z
TZOFFSETFROM:+0200
TZOFFSETTO:+0100
END:STANDARD
BEGIN:DAYLIGHT
DTSTART:20250330T020000Z
TZOFFSETFROM:+0100
TZOFFSETTO:+0200
END:DAYLIGHT
END:VTIMEZONE
BEGIN:VTIMEZONE
TZID:UTC
BEGIN:STANDARD
DTSTART:20250726T110401Z
TZOFFSETFROM:+0000
TZOFFSETTO:+0000
END:STANDARD
END:VTIMEZONE
BEGIN:VEVENT
UID:71-67
DTSTAMP:20260422T110401Z
SUMMARY:Réunion de classe - CE1/CE2
LOCATION:
ORGANIZER;CN=ecole-saintjoseph-grandchamp:MAILTO:demybenoit@live.fr
DTSTART;TZID=Europe/Paris;VALUE=DATE:20240927
DTEND;TZID=Europe/Paris;VALUE=DATE:20240928
X-ALT-DESC;FMTTYPE=TEXT/HTML:
CATEGORIES:General
URL;VALUE=URI:https://ecole-saintjoseph-grandchamp.fr/mc-events/reunion-de-
 classe-ce1-ce2/
METHOD:PUBLISH
END:VEVENT
END:VCALENDAR